BEGIN:VCALENDAR
VERSION:2.0
PRODID:-//eventon.com NONSGML v1.0//EN
CALSCALE:GREGORIAN
METHOD:PUBLISH
BEGIN:VEVENT
UID:69eb0d7db5beb
DTSTAMP:20260424T062813Z
DTSTART:20240809T070000Z
DTEND:20240809T100000Z
LOCATION:Naturfreunde Hütte in Perg Bernd-Wakolbinger-Str. 5
SUMMARY:19 MTB Technik Pumptrack - Vormittag
DESCRIPTION:max. 10 Kinder\,  Radfahren &#8211; Gleichgewicht &#8211; Mut &
 #8211; Spaß und los geht´s. Treffpunkt: bei der Naturfreunde Hütte in Pe
 rg\,  Bernd-Wakolbinger-Str. 5 Anmeldung: Ja\,  Stadtmarketing Perg Alter: 
 6 &#8211; 14 Jahre Betreuung: Ja Kosten: keine\nhttps://www.stadtmarketing-
 perg.at/events/19-mtb-technik-pumptrack-vm/
URL:https://www.stadtmarketing-perg.at/events/19-mtb-technik-pumptrack-vm/
END:VEVENT
END:VCALENDAR